BEGIN:VCALENDAR
VERSION:2.0
PRODID:-//hexenwaeldchen.de - ECPv6.15.14//NONSGML v1.0//EN
CALSCALE:GREGORIAN
METHOD:PUBLISH
X-ORIGINAL-URL:https://www.hexenwaeldchen.de
X-WR-CALDESC:Veranstaltungen für hexenwaeldchen.de
REFRESH-INTERVAL;VALUE=DURATION:PT1H
X-Robots-Tag:noindex
X-PUBLISHED-TTL:PT1H
BEGIN:VTIMEZONE
TZID:Europe/Berlin
BEGIN:DAYLIGHT
TZOFFSETFROM:+0100
TZOFFSETTO:+0200
TZNAME:CEST
DTSTART:20240331T010000
END:DAYLIGHT
BEGIN:STANDARD
TZOFFSETFROM:+0200
TZOFFSETTO:+0100
TZNAME:CET
DTSTART:20241027T010000
END:STANDARD
BEGIN:DAYLIGHT
TZOFFSETFROM:+0100
TZOFFSETTO:+0200
TZNAME:CEST
DTSTART:20250330T010000
END:DAYLIGHT
BEGIN:STANDARD
TZOFFSETFROM:+0200
TZOFFSETTO:+0100
TZNAME:CET
DTSTART:20251026T010000
END:STANDARD
BEGIN:DAYLIGHT
TZOFFSETFROM:+0100
TZOFFSETTO:+0200
TZNAME:CEST
DTSTART:20260329T010000
END:DAYLIGHT
BEGIN:STANDARD
TZOFFSETFROM:+0200
TZOFFSETTO:+0100
TZNAME:CET
DTSTART:20261025T010000
END:STANDARD
BEGIN:DAYLIGHT
TZOFFSETFROM:+0100
TZOFFSETTO:+0200
TZNAME:CEST
DTSTART:20270328T010000
END:DAYLIGHT
BEGIN:STANDARD
TZOFFSETFROM:+0200
TZOFFSETTO:+0100
TZNAME:CET
DTSTART:20271031T010000
END:STANDARD
END:VTIMEZONE
BEGIN:VEVENT
DTSTART;VALUE=DATE:20260403
DTEND;VALUE=DATE:20260406
DTSTAMP:20260420T111117
CREATED:20240110T161938Z
LAST-MODIFIED:20260107T161323Z
UID:367-1775174400-1775433599@www.hexenwaeldchen.de
SUMMARY:Freude mit dem Osterhasen
DESCRIPTION:Camping-Freude mit dem Osterhasen \nTraditionell gestaltet das Team des Hexenwäldchens ein kleines\, buntes Osterprogramm\, um gemeinsam mit den Gästen den Beginn der warmen und hellen Jahreszeit zu feiern. Mit Pinsa zum Selbstbelegen\, Forelle\, Chili-Varianten und Livemusik am Lagerfeuer!\nTäglich – durch unsere Gäste selbst entfacht – gibt es das traditionelle Lagerfeuer am separaten Feuerplatz. \nalle Infos hier
URL:https://www.hexenwaeldchen.de/event/freude-mit-dem-osterhasen/
LOCATION:Campingplatz zum Hexenwäldchen\, Blankenförde 1a\, Mirow OT Blankenförde\, 17252\, Germany
ATTACH;FMTTYPE=image/jpeg:https://www.hexenwaeldchen.de/wp-content/uploads/2019/12/Ostern-2-e1764343641364.jpg
ORGANIZER;CN="Campingplatz zum Hexenw%C3%A4ldchen":MAILTO:anfrage@hexenwaeldchen.de
END:VEVENT
BEGIN:VEVENT
DTSTART;VALUE=DATE:20251231
DTEND;VALUE=DATE:20260101
DTSTAMP:20260420T111117
CREATED:20240120T125606Z
LAST-MODIFIED:20251202T135237Z
UID:5385-1767139200-1767225599@www.hexenwaeldchen.de
SUMMARY:Silvester
DESCRIPTION:Tradition: Rustikales Silvester-Essen am Lagerfeuer \nAbendprogramm\, ab 18.00 Uhr \nWir laden unsere Gäste zu mariniertem Rauchfleischbraten gegrillt und frisch und vor Ort geräucherten Forellen\, Gemüsevarianten und Sauerkraut ein. Dazu gibt es Chilli con Carne und Chilli sin Carne. Und natürlich von Euch selbstbelegte und selbstgebackene Pizzavarianten (keine Angst\, die Böden sind vorbereitet und verschiedene Beläge stehen bereit  ) aus den Pizza-Öfen (Selbstbedienung- ein Riesenspaß – auch für Kinder) So viel man essen kann! Das erste Getränk ist inklusive Rot- oder Weißwein\, frisch gezapftes Bier oder Softgetränk. Für die ganz Kleinen steht auch ein Topf mit Stockbrot bereit! \nDie Schlecht-Wetter-Variante? Das Lagerfeuer kriegen wir immer in Gang\, und neben dem Lagerfeuer findet Ihr einen Pavillon mit Steh- und Sitzplätzen vor\, Heizpilze unter dem Pavillon runden die Atmosphäre wärmetechnisch ab. \nUm „Null Uhr“ organisieren wir ein (wirklich) kleines Feuerwerk\, um auch den letzten bösen Geist aus dem vergangenen Jahr zu vertreiben! \nBei einer Anreise über die Weihnachts- und Silvestertage bitten wir um eine vorherige Buchung (bei Interesse auch für das Silvesteressen am Lagerfeuer!) über unser Anfrageformular. \nBei Ankunft gibt es dann auch einen frischen Kaffee zur Begrüßung! \nWir freuen uns auf Euch! \nzurück zur Infoseite
URL:https://www.hexenwaeldchen.de/event/silvester/
ATTACH;FMTTYPE=image/jpeg:https://www.hexenwaeldchen.de/wp-content/uploads/2024/01/Lagerfreuer2-e1764754158670.jpg
END:VEVENT
BEGIN:VEVENT
DTSTART;VALUE=DATE:20251224
DTEND;VALUE=DATE:20251225
DTSTAMP:20260420T111117
CREATED:20240120T123940Z
LAST-MODIFIED:20250130T204837Z
UID:5383-1766534400-1766620799@www.hexenwaeldchen.de
SUMMARY:Gemütliches Weihnachts-Come-Together
DESCRIPTION:Zu Weihnachten besucht uns traditionell der Weihnachtsmann auf seinem geschmückten Kahn und verteilt Glühwein und kleine Geschenke\, und sorgt mit einer „Weihnachtsgeschichte“ für einen liebevollen Einstieg in die Weihnachtstage in der Camper-Behausung.\nAbends\, ca. ab 18.00 Uhr\, gibt es ein gemütliches Treffen am Lagerfeuer mit Kinderpunsch\, Glühwein und Stockbrot. \nzurück zur Infoseite
URL:https://www.hexenwaeldchen.de/event/gemuetliches-weihnachts-come-together/
ATTACH;FMTTYPE=image/jpeg:https://www.hexenwaeldchen.de/wp-content/uploads/2022/01/Weihnachtsmann-See-2-e1764754103767.jpg
END:VEVENT
BEGIN:VEVENT
DTSTART;VALUE=DATE:20251025
DTEND;VALUE=DATE:20251026
DTSTAMP:20260420T111117
CREATED:20240117T145955Z
LAST-MODIFIED:20241218T085435Z
UID:5214-1761350400-1761436799@www.hexenwaeldchen.de
SUMMARY:Lagerfeuer mit Grill und Stockbrot
DESCRIPTION:Wir bieten unseren Gästen und ihren Kindern einen Abend am Lagerfeuer an. Das Feuer-Holz stellen wir\, und das Anmachen des Feuers ist auch gewährleistet 😉! Am Lagerfeuer steht für die „Schlecht-Wetter-Variante“ ein großer Pavillon mit Sitzgelegenheiten zur Verfügung. Dort bauen wir einen großen Grill auf\, und feuern diesen mit Holzkohle an. Alle Gäste sind eingeladen\, eigenes Gerät (Grillzange\, Teller\, Besteck etc) sowie eigenes Grillgut… Fleisch… Gemüse… etc…. mitbringen\, und auf dem Grill für sich zuzubereiten. Dieser Service ist kostenfrei. \nGegen kleines Geld können Sie im Kiosk „Stockbrot-Pakete“ zum selbst zubereiten erwerben\, so dass jede Familie eine leckere Beilage gestalten kann. \nzurück zur Infoseite
URL:https://www.hexenwaeldchen.de/event/lagerfeuer-mit-grill-und-stockbrot-6/
ATTACH;FMTTYPE=image/jpeg:https://www.hexenwaeldchen.de/wp-content/uploads/2014/09/stockbrot-schwarz-weiss.jpg
END:VEVENT
BEGIN:VEVENT
DTSTART;VALUE=DATE:20251018
DTEND;VALUE=DATE:20251019
DTSTAMP:20260420T111117
CREATED:20240117T145721Z
LAST-MODIFIED:20241218T092215Z
UID:5212-1760745600-1760831999@www.hexenwaeldchen.de
SUMMARY:Kartoffel-Kringel & Grill
DESCRIPTION:Wir bieten unseren Gästen und ihren Kindern einen Abend am Lagerfeuer an. Das Feuer-Holz stellen wir\, und das Anmachen des Feuers ist auch gewährleistet 😉!\nAm Lagerfeuer steht für die „Schlecht-Wetter-Variante“ ein großer Pavillon mit Sitzgelegenheiten zur Verfügung.\nDort bauen wir einen großen Grill auf\, und feuern diesen mit Holzkohle an. Alle Gäste sind eingeladen\, eigenes Gerät (Grillzange\, Teller\, Besteck etc) sowie eigenes Grillgut… Fleisch… Gemüse… etc…. mitbringen\, und auf dem Grill für sich zuzubereiten. Dieser Service ist kostenfrei.\nAls Beilage verkauft das Team des Hexenwäldchens direkt am Lagerfeuer Getränke und – vom Team frisch zubereitete – knusprige Kartoffel-Kringel (Kartoffel-Spiralen werden auf einen Holzspieß gesteckt\, dann in einen flüssigen Teig getaucht\, sodann mit einer von uns vorgefertigten Würz-Panade bestreut\, und dann in heißem Fett zu einer wahrhaft köstlichen Knusperspezialität frittiert) Besser als allerbeste Pommes! \nzurück zur Infoseite
URL:https://www.hexenwaeldchen.de/event/kartoffel-kringel-grill-2/
ATTACH;FMTTYPE=image/jpeg:https://www.hexenwaeldchen.de/wp-content/uploads/2024/01/Kartoffel-Camping-gross-e1764595629884.jpg
END:VEVENT
BEGIN:VEVENT
DTSTART;VALUE=DATE:20251004
DTEND;VALUE=DATE:20251005
DTSTAMP:20260420T111117
CREATED:20240119T122015Z
LAST-MODIFIED:20241218T091427Z
UID:5241-1759536000-1759622399@www.hexenwaeldchen.de
SUMMARY:„Rauchfleisch trifft Räucherfisch“
DESCRIPTION:Camping und Kulinarik? Geht das? Ja! \nWir laden unsere Gäste zu mariniertem Spießbraten -gegrillt über Holzkohlefeuer- und frisch und vor Ort geräuchertem Fisch \, Baguettes\, Sauerkraut und Gemüsevariationen ein…so viel man essen kann! Camping wird zu einem Kulinarik-Event.\nDas erste Getränk ist inklusive… Rot- oder Weißwein\, frisch gezapftes Bier oder Softgetränk.\nDazu gibt´s gemütliche handgemachte Musik am Lagerfeuer. Für die ganz Kleinen steht auch ein Topf mit Stockbrot bereit 😉 ! \nzurück zur Infoseite
URL:https://www.hexenwaeldchen.de/event/rauchfleisch-trifft-raeucherfisch-3/
ATTACH;FMTTYPE=image/jpeg:https://www.hexenwaeldchen.de/wp-content/uploads/2024/01/Rauchfleisch_Forelle_Gemuese.jpg
END:VEVENT
BEGIN:VEVENT
DTSTART;TZID=Europe/Berlin:20250621T180000
DTEND;TZID=Europe/Berlin:20250621T210000
DTSTAMP:20260420T111117
CREATED:20250514T103214Z
LAST-MODIFIED:20250514T103833Z
UID:6210-1750528800-1750539600@www.hexenwaeldchen.de
SUMMARY:Lagerfeuer mit Grill & Stockbrot
DESCRIPTION:Wir bieten unseren Gästen und ihren Kindern einen Abend am Lagerfeuer an. Das Feuer-Holz stellen wir\, und das Anmachen des Feuers ist auch gewährleistet 😉! Am Lagerfeuer steht für die „Schlecht-Wetter-Variante“ ein großer Pavillon mit Sitzgelegenheiten zur Verfügung. Dort bauen wir einen großen Grill auf\, und feuern diesen mit Holzkohle an. Alle Gäste sind eingeladen\, eigenes Gerät (Grillzange\, Teller\, Besteck etc) sowie eigenes Grillgut… Fleisch… Gemüse… etc…. mitbringen\, und auf dem Grill für sich zuzubereiten. Dieser Service ist kostenfrei. \nZwischen 19.30 – 22.00 Uhr können Sie sich auf entspannte Live-Musik am Lagerfeuer freuen!!! \nGegen kleines Geld können Sie im Kiosk „Stockbrot-Pakete“ zum selbst zubereiten erwerben\, so dass jede Familie eine leckere Beilage gestalten kann. \nzurück zur Infoseite
URL:https://www.hexenwaeldchen.de/event/lagerfeuer-mit-grill-stockbrot/
END:VEVENT
BEGIN:VEVENT
DTSTART;VALUE=DATE:20250419
DTEND;VALUE=DATE:20250420
DTSTAMP:20260420T111117
CREATED:20250219T140728Z
LAST-MODIFIED:20250219T140937Z
UID:6169-1745020800-1745107199@www.hexenwaeldchen.de
SUMMARY:Lagerfeuer mit Grill & Stockbrot
DESCRIPTION:Wir bieten unseren Gästen und ihren Kindern einen Abend am Lagerfeuer an. Das Feuer-Holz stellen wir\, und das Anmachen des Feuers ist auch gewährleistet 😉! Am Lagerfeuer steht für die „Schlecht-Wetter-Variante“ ein großer Pavillon mit Sitzgelegenheiten zur Verfügung. Dort bauen wir einen großen Grill auf\, und feuern diesen mit Holzkohle an. Alle Gäste sind eingeladen\, eigenes Gerät (Grillzange\, Teller\, Besteck etc) sowie eigenes Grillgut… Fleisch… Gemüse… etc…. mitbringen\, und auf dem Grill für sich zuzubereiten. Dieser Service ist kostenfrei. \nGegen kleines Geld können Sie im Kiosk „Stockbrot-Pakete“ zum selbst zubereiten erwerben\, so dass jede Familie eine leckere Beilage gestalten kann. \nzurück zur Infoseite
URL:https://www.hexenwaeldchen.de/event/lagerfeuer-mit-grill-und-stockbrot/
ATTACH;FMTTYPE=image/jpeg:https://www.hexenwaeldchen.de/wp-content/uploads/2024/01/Slider-11_k-e1705942175354.jpg
END:VEVENT
END:VCALENDAR